BEGIN:VCALENDAR
VERSION:2.0
PRODID:-//Women&#039;s Center - ECPv6.15.20//NONSGML v1.0//EN
CALSCALE:GREGORIAN
METHOD:PUBLISH
X-ORIGINAL-URL:https://www.womenscentertc.org
X-WR-CALDESC:Events for Women&#039;s Center
REFRESH-INTERVAL;VALUE=DURATION:PT1H
X-Robots-Tag:noindex
X-PUBLISHED-TTL:PT1H
BEGIN:VTIMEZONE
TZID:America/Chicago
BEGIN:DAYLIGHT
TZOFFSETFROM:-0600
TZOFFSETTO:-0500
TZNAME:CDT
DTSTART:20240310T080000
END:DAYLIGHT
BEGIN:STANDARD
TZOFFSETFROM:-0500
TZOFFSETTO:-0600
TZNAME:CST
DTSTART:20241103T070000
END:STANDARD
BEGIN:DAYLIGHT
TZOFFSETFROM:-0600
TZOFFSETTO:-0500
TZNAME:CDT
DTSTART:20250309T080000
END:DAYLIGHT
BEGIN:STANDARD
TZOFFSETFROM:-0500
TZOFFSETTO:-0600
TZNAME:CST
DTSTART:20251102T070000
END:STANDARD
BEGIN:DAYLIGHT
TZOFFSETFROM:-0600
TZOFFSETTO:-0500
TZNAME:CDT
DTSTART:20260308T080000
END:DAYLIGHT
BEGIN:STANDARD
TZOFFSETFROM:-0500
TZOFFSETTO:-0600
TZNAME:CST
DTSTART:20261101T070000
END:STANDARD
END:VTIMEZONE
BEGIN:VEVENT
DTSTART;TZID=America/Chicago:20251216T140000
DTEND;TZID=America/Chicago:20251216T153000
DTSTAMP:20260423T100331
CREATED:20250124T183223Z
LAST-MODIFIED:20250124T183734Z
UID:10000393-1765893600-1765899000@www.womenscentertc.org
SUMMARY:Women's Support Group
DESCRIPTION:The Women’s Support Group meets weekly to cover topics such as boundaries\, assertive communication\, depression\, anxiety and self-esteem. The women in the group take turns having their voices heard\, and in turn\, give each other support and encouragement\, plus provide valuable resources from their own experiences. \nThe group meets Tuesdays from 2-3:30. Cost is $5. MUST schedule assessment by calling 817.927.4040. \n 
URL:https://www.womenscentertc.org/event/womens-support-group-2/2025-12-16/
CATEGORIES:Public Workshops/Seminars
ATTACH;FMTTYPE=image/jpeg:https://www.womenscentertc.org/wp-content/uploads/2023/09/20230815_142854-01-scaled.jpeg
END:VEVENT
BEGIN:VEVENT
DTSTART;TZID=America/Chicago:20251215T090000
DTEND;TZID=America/Chicago:20251215T110000
DTSTAMP:20260423T100331
CREATED:20221024T181951Z
LAST-MODIFIED:20250124T184650Z
UID:10000534-1765789200-1765796400@www.womenscentertc.org
SUMMARY:Employment Solutions Information Meeting
DESCRIPTION:Are you ready to move from struggle to success as you pursue your next career opportunity? Attend this Employment Solutions Information Meeting to connect with a career coach and financial coach who will teach you how to stand out in your job search\, help you achieve financial stability and support you on your journey.
URL:https://www.womenscentertc.org/event/employment-solutions-information-meeting-2/2025-12-15/
CATEGORIES:Public Workshops/Seminars
ATTACH;FMTTYPE=image/jpeg:https://www.womenscentertc.org/wp-content/uploads/2022/10/WomenCenter2023-0156.jpg
END:VEVENT
BEGIN:VEVENT
DTSTART;TZID=America/Chicago:20251120T180000
DTEND;TZID=America/Chicago:20251120T190000
DTSTAMP:20260423T100331
CREATED:20250124T182824Z
LAST-MODIFIED:20250124T182824Z
UID:10000299-1763661600-1763665200@www.womenscentertc.org
SUMMARY:Arlington Legal Clinic
DESCRIPTION:At our free monthly legal clinic\, volunteer attorneys provide legal options and directions for issues like divorce\, child support\, child custody and other legal issues. For more information\, please call the Helpline at 817.927.4000.
URL:https://www.womenscentertc.org/event/arlington-legal-clinic/2025-11-20/
CATEGORIES:Legal Clinics
ATTACH;FMTTYPE=image/jpeg:https://www.womenscentertc.org/wp-content/uploads/2021/09/AdobeStock_548956141-scaled.jpeg
END:VEVENT
BEGIN:VEVENT
DTSTART;TZID=America/Chicago:20251113T180000
DTEND;TZID=America/Chicago:20251113T190000
DTSTAMP:20260423T100331
CREATED:20250124T181158Z
LAST-MODIFIED:20250124T182021Z
UID:10000271-1763056800-1763060400@www.womenscentertc.org
SUMMARY:Fort Worth Legal Clinic
DESCRIPTION:At our free monthly legal clinic\, volunteer attorneys provide legal options and directions for issues like divorce\, child support\, child custody and other legal issues. For more information\, please call the Helpline at 817.927.4000.
URL:https://www.womenscentertc.org/event/fort-worth-legal-clinic-2-2/2025-11-13/
CATEGORIES:Legal Clinics
ATTACH;FMTTYPE=image/jpeg:https://www.womenscentertc.org/wp-content/uploads/2021/09/AdobeStock_548956141-scaled.jpeg
END:VEVENT
BEGIN:VEVENT
DTSTART;TZID=America/Chicago:20251024T190000
DTEND;TZID=America/Chicago:20251024T230000
DTSTAMP:20260423T100331
CREATED:20210616T173141Z
LAST-MODIFIED:20260317T135504Z
UID:10000177-1761332400-1761346800@www.womenscentertc.org
SUMMARY:2025 Monster Mash
DESCRIPTION:Dress to Distress\nA glamorous night of mystery\, mischief\, and monstrous fun\nPlans are brewing for an unforgettable night. Join us this October for a sophisticated twist on spooky—an evening where elegance meets the eerie and revelers arrive cloaked in mystery and charm. Beneath flickering candlelight and draped velvet\, guests will gather in dark finery to indulge in ghostly glamour\, devilish dancing\, and spirited celebration—all in support of a noble cause. It will be a fang-tastic affair of monstrous mischief\, chilling charm\, and charitable revelry. Don’t be haunted by regrets! Monster Mash awaits. Secure your seats today!
URL:https://www.womenscentertc.org/event/monster-mash-2/
CATEGORIES:Fundraising Events
ATTACH;FMTTYPE=image/jpeg:https://www.womenscentertc.org/wp-content/uploads/2025/05/MM-Web-Graphic.2025-scaled-e1774904100122.jpg
END:VEVENT
BEGIN:VEVENT
DTSTART;TZID=America/Chicago:20251023T180000
DTEND;TZID=America/Chicago:20251023T190000
DTSTAMP:20260423T100331
CREATED:20250124T175837Z
LAST-MODIFIED:20250124T182455Z
UID:10000279-1761242400-1761246000@www.womenscentertc.org
SUMMARY:Fort Worth Legal Clinic
DESCRIPTION:At our free monthly legal clinic\, volunteer attorneys provide legal options and directions for issues like divorce\, child support\, child custody and other legal issues. For more information\, please call the Helpline at 817.927.4000.
URL:https://www.womenscentertc.org/event/virtual-legal-clinic-2/2025-10-23/
CATEGORIES:Legal Clinics
ATTACH;FMTTYPE=image/jpeg:https://www.womenscentertc.org/wp-content/uploads/2021/09/Legal-Clinic.Virtual-e1632849348399.jpg
END:VEVENT
END:VCALENDAR